BEGIN:VCALENDAR
VERSION:2.0
PRODID:-//www.sedhd.org//NONSGML kigkonsult.se iCalcreator 2.30.10//
CALSCALE:GREGORIAN
METHOD:PUBLISH
UID:9bd50800-5555-4c5a-b18d-836cc31e8f3a
X-WR-CALDESC:Anyone who would like to be tested\, must sign up through thei
 r website below.  For those who don't have internet\, computer or smart ph
 one\, you can call 402-207-9377 to schedule for a test.
X-WR-RELCALID:0fb5121932fb695323728993f1541862
X-WR-TIMEZONE:America/Chicago
BEGIN:VTIMEZONE
TZID:America/Chicago
BEGIN:STANDARD
TZNAME:CST
DTSTART:20201101T020000
TZOFFSETFROM:-0500
TZOFFSETTO:-0600
RDATE:20211107T020000
RDATE:20221106T020000
END:STANDARD
BEGIN:DAYLIGHT
TZNAME:CDT
DTSTART:20210314T020000
TZOFFSETFROM:-0600
TZOFFSETTO:-0500
RDATE:20220313T020000
END:DAYLIGHT
END:VTIMEZONE
BEGIN:VEVENT
UID:8d7672ff-0aae-45f2-ade4-334879582dcf
DTSTAMP:20260422T035358Z
DESCRIPTION:Anyone who would like to be tested\, must sign up through their
  website below.  For those who don't have internet\, computer or smart pho
 ne\, you can call 402-207-9377 to schedule for a test.
DTSTART;TZID=America/Chicago:20210602T083000
DTEND;TZID=America/Chicago:20210602T091500
LOCATION:
SUMMARY:Test Nebraska - CHI-Health St. Mary's Nebraska City
END:VEVENT
END:VCALENDAR
