BEGIN:VCALENDAR
VERSION:2.0
PRODID:-//www.sedhd.org//NONSGML kigkonsult.se iCalcreator 2.30.10//
CALSCALE:GREGORIAN
METHOD:PUBLISH
UID:71ac97e5-5646-4020-99ce-bf9eb5ca883b
X-WR-CALDESC:IMPORTANT NOTICE: Southeast District Health Department will be
  accepting walk-in appointments at its COVID-19 Vaccine Clinic\, 9:00 AM t
 o 12 PM.\n\nModerna\, Pfizer\, and Johnson & Johnson will be available.\n
 \nIndividuals presenting during this time MUST:\n• Be 18 years of age or o
 lder\n• Be at least 14 days from receiving a vaccine of any type\n• Be at 
 least 90 days past receiving a monoclonal antibody infusion as a treatment
  for COVID-19\n• Wear a Mask\n
X-WR-RELCALID:5b8cdf95619a76a405a71563308ad279
X-WR-TIMEZONE:America/Chicago
BEGIN:VTIMEZONE
TZID:America/Chicago
BEGIN:STANDARD
TZNAME:CST
DTSTART:20201101T020000
TZOFFSETFROM:-0500
TZOFFSETTO:-0600
RDATE:20211107T020000
RDATE:20221106T020000
END:STANDARD
BEGIN:DAYLIGHT
TZNAME:CDT
DTSTART:20210314T020000
TZOFFSETFROM:-0600
TZOFFSETTO:-0500
RDATE:20220313T020000
END:DAYLIGHT
END:VTIMEZONE
BEGIN:VEVENT
UID:12cd1ff4-3cdc-467e-8add-1baa5680c638
DTSTAMP:20260423T195826Z
DESCRIPTION:IMPORTANT NOTICE: Southeast District Health Department will be 
 accepting walk-in appointments at its COVID-19 Vaccine Clinic\, 9:00 AM to
  12 PM.\n\nModerna\, Pfizer\, and Johnson & Johnson will be available.\n\n
 Individuals presenting during this time MUST:\n• Be 18 years of age or old
 er\n• Be at least 14 days from receiving a vaccine of any type\n• Be at le
 ast 90 days past receiving a monoclonal antibody infusion as a treatment f
 or COVID-19\n• Wear a Mask\n
DTSTART;TZID=America/Chicago:20210618T090000
DTEND;TZID=America/Chicago:20210618T120000
LOCATION:1110 Buffalo Drive\, Tecumseh\, NE 68450 US
SUMMARY:Walk-in COVID-19 Vaccine Clinic at Tecumseh Fire Hall
END:VEVENT
END:VCALENDAR
