BEGIN:VCALENDAR
VERSION:2.0
PRODID:-//www.sedhd.org//NONSGML kigkonsult.se iCalcreator 2.30.10//
CALSCALE:GREGORIAN
METHOD:PUBLISH
UID:8a70b0f4-312d-44ff-84f7-0ecce6e4d0da
X-WR-CALDESC:IMPORTANT NOTICE: Southeast District Health Department will be
  accepting walk-in appointments at its COVID-19 Vaccine Clinic\, from 10:0
 0 AM to 3:00 PM at our office - Southeast District Health Department (2511
  Schneider Ave\, east of Hwy 75 & 26th Street). Pfizer or Johnson & Johnso
 n will be the vaccines offered this day.\n\nIndividuals presenting during 
 this time MUST:\n• Be 12 years of age or older (a parent/legal guardian mu
 st be present with them at the clinic for consent\, for those under 19 yrs
  of age) PFIZER.\n• Be at least 90 days past receiving a monoclonal antibo
 dy infusion as a treatment for COVID-19\n• Wear a Mask\n
X-WR-RELCALID:d7542bc32bc3bfc0d62d42f684d61e35
X-WR-TIMEZONE:America/Chicago
BEGIN:VTIMEZONE
TZID:America/Chicago
BEGIN:STANDARD
TZNAME:CST
DTSTART:20201101T020000
TZOFFSETFROM:-0500
TZOFFSETTO:-0600
RDATE:20211107T020000
RDATE:20221106T020000
END:STANDARD
BEGIN:DAYLIGHT
TZNAME:CDT
DTSTART:20210314T020000
TZOFFSETFROM:-0600
TZOFFSETTO:-0500
RDATE:20220313T020000
END:DAYLIGHT
END:VTIMEZONE
BEGIN:VEVENT
UID:9fb9c8d7-d6d5-4f08-8570-6a00ba984334
DTSTAMP:20260424T215322Z
DESCRIPTION:IMPORTANT NOTICE: Southeast District Health Department will be 
 accepting walk-in appointments at its COVID-19 Vaccine Clinic\, from 10:00
  AM to 3:00 PM at our office - Southeast District Health Department (2511 
 Schneider Ave\, east of Hwy 75 & 26th Street). Pfizer or Johnson & Johnson
  will be the vaccines offered this day.\n\nIndividuals presenting during t
 his time MUST:\n• Be 12 years of age or older (a parent/legal guardian mus
 t be present with them at the clinic for consent\, for those under 19 yrs 
 of age) PFIZER.\n• Be at least 90 days past receiving a monoclonal antibod
 y infusion as a treatment for COVID-19\n• Wear a Mask\n
DTSTART;TZID=America/Chicago:20210804T100000
DTEND;TZID=America/Chicago:20210804T150000
LOCATION:2511 Schneider Ave\, Auburn\, NE 68305 US
SUMMARY:Walk-in COVID-19 Vaccine Clinic - PFIZER or Johnson & Johnson
END:VEVENT
END:VCALENDAR
