BEGIN:VCALENDAR
VERSION:2.0
PRODID:-//www.sedhd.org//NONSGML kigkonsult.se iCalcreator 2.30.10//
CALSCALE:GREGORIAN
METHOD:PUBLISH
UID:72d10a85-77d4-4eaa-8ade-1eede883517c
X-WR-CALDESC:IMPORTANT NOTICE: Southeast District Health Department will be
  accepting walk-in appointments at its COVID-19 Vaccine Clinic\, from 10:0
 0 AM to 3:00 PM at our office - Southeast District Health Department (2511
  Schneider Ave\, east of Hwy 75 & 26th Street). Pfizer or Johnson & Johnso
 n will be the vaccines offered this day. Please bring your insurance card.
  No cost to you\, the vaccine is free.\n\nIndividuals presenting during th
 is time MUST:\n• Be 12 years of age or older (a parent/legal guardian must
  be present\, with those under the age of 19) at the clinic for consent. P
 fizer is authorized for use for youth age 12 years of age and older. \n• B
 e at least 90 days past receiving a monoclonal antibody infusion as a trea
 tment for COVID-19\n• Wear a Mask\n
X-WR-RELCALID:092bf3741de16d751d667ad186d60ec2
X-WR-TIMEZONE:America/Chicago
BEGIN:VTIMEZONE
TZID:America/Chicago
BEGIN:STANDARD
TZNAME:CST
DTSTART:20201101T020000
TZOFFSETFROM:-0500
TZOFFSETTO:-0600
RDATE:20211107T020000
RDATE:20221106T020000
END:STANDARD
BEGIN:DAYLIGHT
TZNAME:CDT
DTSTART:20210314T020000
TZOFFSETFROM:-0600
TZOFFSETTO:-0500
RDATE:20220313T020000
RDATE:20230312T020000
END:DAYLIGHT
END:VTIMEZONE
BEGIN:VEVENT
UID:14e35506-08c2-4e13-8d2c-e8bf855d2ada
DTSTAMP:20260424T091517Z
DESCRIPTION:IMPORTANT NOTICE: Southeast District Health Department will be 
 accepting walk-in appointments at its COVID-19 Vaccine Clinic\, from 10:00
  AM to 3:00 PM at our office - Southeast District Health Department (2511 
 Schneider Ave\, east of Hwy 75 & 26th Street). Pfizer or Johnson & Johnson
  will be the vaccines offered this day. Please bring your insurance card. 
 No cost to you\, the vaccine is free.\n\nIndividuals presenting during thi
 s time MUST:\n• Be 12 years of age or older (a parent/legal guardian must 
 be present\, with those under the age of 19) at the clinic for consent. Pf
 izer is authorized for use for youth age 12 years of age and older. \n• Be
  at least 90 days past receiving a monoclonal antibody infusion as a treat
 ment for COVID-19\n• Wear a Mask\n
DTSTART;TZID=America/Chicago:20211020T100000
DTEND;TZID=America/Chicago:20211020T150000
LOCATION:2511 Schneider Ave\, Auburn\, NE 68305 US
SUMMARY:Walk-in COVID-19 Vaccine Clinic - PFIZER or Johnson & Johnson
END:VEVENT
END:VCALENDAR
