BEGIN:VCALENDAR
VERSION:2.0
PRODID:-//www.sedhd.org//NONSGML kigkonsult.se iCalcreator 2.30.10//
CALSCALE:GREGORIAN
METHOD:PUBLISH
UID:aea25d88-7863-4db8-b0b2-33b59b75055f
X-WR-CALDESC:
X-WR-RELCALID:299598f875a7e73b1a6d0dabd62acb91
X-WR-TIMEZONE:America/Chicago
BEGIN:VTIMEZONE
TZID:America/Chicago
BEGIN:STANDARD
TZNAME:CST
DTSTART:20221106T020000
TZOFFSETFROM:-0500
TZOFFSETTO:-0600
RDATE:20231105T020000
RDATE:20241103T020000
END:STANDARD
BEGIN:DAYLIGHT
TZNAME:CDT
DTSTART:20230312T020000
TZOFFSETFROM:-0600
TZOFFSETTO:-0500
RDATE:20240310T020000
RDATE:20250309T020000
END:DAYLIGHT
END:VTIMEZONE
BEGIN:VEVENT
UID:1239a621-243b-4f0e-85e0-0db17a9d8b46
DTSTAMP:20260423T220035Z
DESCRIPTION:
DTSTART;TZID=America/Chicago:20231019T080000
DTEND;TZID=America/Chicago:20231019T110000
LOCATION:
SUMMARY:SEDHD Blood Pressure Check Clinics
END:VEVENT
END:VCALENDAR
