BEGIN:VCALENDAR
VERSION:2.0
PRODID:-//www.sedhd.org//NONSGML kigkonsult.se iCalcreator 2.30.10//
CALSCALE:GREGORIAN
METHOD:PUBLISH
UID:883909ea-29c0-404c-8c1a-321d029bc3d0
X-WR-CALDESC:
X-WR-RELCALID:e5d8586d485db9c686294f8e0810922f
X-WR-TIMEZONE:America/Chicago
BEGIN:VTIMEZONE
TZID:America/Chicago
BEGIN:STANDARD
TZNAME:CST
DTSTART:20231105T020000
TZOFFSETFROM:-0500
TZOFFSETTO:-0600
RDATE:20241103T020000
END:STANDARD
BEGIN:DAYLIGHT
TZNAME:CDT
DTSTART:20240310T020000
TZOFFSETFROM:-0600
TZOFFSETTO:-0500
RDATE:20250309T020000
END:DAYLIGHT
END:VTIMEZONE
BEGIN:VEVENT
UID:f9cb688d-1f80-41ed-8108-289d312fcd42
DTSTAMP:20260424T095236Z
DESCRIPTION:
DTSTART;TZID=America/Chicago:20240418T080000
DTEND;TZID=America/Chicago:20240418T110000
LOCATION:
SUMMARY:SEDHD Blood Pressure Check Clinics
END:VEVENT
END:VCALENDAR
